BEGIN:VCALENDAR
PRODID:-//AT Content Types//AT Event//EN
VERSION:2.0
METHOD:PUBLISH
BEGIN:VEVENT
DTSTAMP:20260423T015153Z
CREATED:20160823T080943Z
UID:ATEvent-8324d0c5cd86413db591a344214012cd
LAST-MODIFIED:20161103T102136Z
SUMMARY:CMP-EPS tut. (2)
DTSTART:20161117T080000Z
DTEND:20161117T093000Z
LOCATION:Lecture Room Euler
CONTACT:N. Stojic
URL:https://diploma-clear.ictp.it/courses/weekly-schedule/lecture-room-euler/cmp-eps-tut-2-2
CLASS:PUBLIC
END:VEVENT
END:VCALENDAR
