BEGIN:VCALENDAR
PRODID:-//AT Content Types//AT Event//EN
VERSION:2.0
METHOD:PUBLISH
BEGIN:VEVENT
DTSTAMP:20260421T100834Z
CREATED:20181004T095327Z
UID:ATEvent-9f77d3d3a46a41318b5a6b917c7877f4
LAST-MODIFIED:20181004T095555Z
SUMMARY:CMP-EPS
DTSTART:20181212T080000Z
DTEND:20181212T093000Z
LOCATION:Lecture Room Euler
CONTACT:N. Binggeli
URL:https://diploma-clear.ictp.it/courses/weekly-schedule/lecture-room-euler/cmp-eps-64
CLASS:PUBLIC
END:VEVENT
END:VCALENDAR
