BEGIN:VCALENDAR
PRODID:-//AT Content Types//AT Event//EN
VERSION:2.0
METHOD:PUBLISH
BEGIN:VEVENT
DTSTAMP:20260423T071146Z
CREATED:20181207T150419Z
UID:ATEvent-4c608d8870cc401594fe454a6d2e6016
LAST-MODIFIED:20181207T150503Z
SUMMARY:CMP-ASM
DTSTART:20190412T140000Z
DTEND:20190412T153000Z
LOCATION:Lecture Room Euler
CONTACT:A. Scardicchio
URL:https://diploma-clear.ictp.it/courses/weekly-schedule/lecture-room-euler/cmp-asm-19
CLASS:PUBLIC
END:VEVENT
END:VCALENDAR
