BEGIN:VCALENDAR
PRODID:-//AT Content Types//AT Event//EN
VERSION:1.0
BEGIN:VEVENT
DTSTART:20101118T080000Z
DTEND:20101118T093000Z
DCREATED:20101117T100132Z
UID:ATEvent-58d7f1249c927637eef129debbc52a01
SEQUENCE:0
LAST-MODIFIED:20101117T100220Z
SUMMARY:CMP-AQM
LOCATION:Lecture Room Euler
PRIORITY:3
TRANSP:0
END:VEVENT
END:VCALENDAR
