BEGIN:VCALENDAR
PRODID:-//AT Content Types//AT Event//EN
VERSION:2.0
METHOD:PUBLISH
BEGIN:VEVENT
DTSTAMP:20260421T102820Z
CREATED:20100308T140829Z
UID:ATEvent-672cbf177fba977c23637934b317eb28
LAST-MODIFIED:20100308T140909Z
SUMMARY:BP-QM
DTSTART:20100312T130000Z
DTEND:20100312T143000Z
LOCATION:Lecture Room Euler
CONTACT:George Thompson
URL:https://diploma-clear.ictp.it/courses/weekly-schedule/lecture-room-euler/bp-qm-3
CLASS:PUBLIC
END:VEVENT
END:VCALENDAR
