BEGIN:VCALENDAR
PRODID:-//AT Content Types//AT Event//EN
VERSION:1.0
BEGIN:VEVENT
DTSTART:20190328T150000Z
DTEND:20190328T163000Z
DCREATED:20181123T133958Z
UID:ATEvent-1efe10487310480a86aa3d9826799daf
SEQUENCE:0
LAST-MODIFIED:20181123T134014Z
SUMMARY:Award Ceremony
LOCATION:Lecture Room Euler
PRIORITY:3
TRANSP:0
END:VEVENT
END:VCALENDAR
