BEGIN:VCALENDAR
PRODID:-//AT Content Types//AT Event//EN
VERSION:1.0
BEGIN:VEVENT
DTSTART:20110930T153000Z
DTEND:20110930T170000Z
DCREATED:20110921T082020Z
UID:ATEvent-d40f0a92cc6a153e777ab4553bb68795
SEQUENCE:0
LAST-MODIFIED:20110921T082106Z
SUMMARY:Applied Probability and Stochastic Processes 3
LOCATION:Lecture Room Euler
PRIORITY:3
TRANSP:0
END:VEVENT
END:VCALENDAR
