BEGIN:VCALENDAR
PRODID:-//AT Content Types//AT Event//EN
VERSION:2.0
METHOD:PUBLISH
BEGIN:VEVENT
DTSTAMP:20260422T022900Z
CREATED:20101215T133915Z
UID:ATEvent-940deb8dc7dbad3f91d7e7506c5c8acd
LAST-MODIFIED:20101215T133954Z
SUMMARY:15:30 Mtg. all groups
DTSTART:20101216T150000Z
DTEND:20101216T163000Z
LOCATION:Lecture Room Euler
URL:https://diploma-clear.ictp.it/courses/weekly-schedule/lecture-room-euler/15-30-mtg.-all-groups
CLASS:PUBLIC
END:VEVENT
END:VCALENDAR
