BEGIN:VCALENDAR
PRODID:-//AT Content Types//AT Event//EN
VERSION:1.0
BEGIN:VEVENT
DTSTART:20211123T080000Z
DTEND:20211123T093000Z
DCREATED:20211118T110208Z
UID:ATEvent-b8fb0fccb8234939bead751c175a8fcc
SEQUENCE:0
LAST-MODIFIED:20211118T110232Z
SUMMARY:10:00-13:00 HEP-QM
LOCATION:Lecture Room Euler
PRIORITY:3
TRANSP:0
END:VEVENT
END:VCALENDAR
