BEGIN:VCALENDAR
PRODID:-//AT Content Types//AT Event//EN
VERSION:2.0
METHOD:PUBLISH
BEGIN:VEVENT
DTSTAMP:20260423T184456Z
CREATED:20200508T095145Z
UID:ATEvent-1347f97d2bd64733830c4ff901ec0cd7
LAST-MODIFIED:20200509T150303Z
SUMMARY:Webinar Colloquium by Prof. Shivaji Sondhi
DTSTART:20200513T140000Z
DTEND:20200513T153000Z
LOCATION:Lecture Room D
URL:https://diploma-clear.ictp.it/courses/weekly-schedule/lecture-room-d/webinar-colloquium-by-prof-shivaji-sondhi
CLASS:PUBLIC
END:VEVENT
END:VCALENDAR
