BEGIN:VCALENDAR
PRODID:-//ICTPDiploma//ATRoom//EN
VERSION:1.0
BEGIN:VEVENT
DTSTART:20111214T080000Z
DTEND:20111214T093000Z
DCREATED:20111108T134215Z
UID:ATEvent-5ac8926e849d80bf4f3383f3cc9ca166
SEQUENCE:0
LAST-MODIFIED:20111108T134248Z
SUMMARY:MTH-DG tut.
LOCATION:Lecture Room D
PRIORITY:3
TRANSP:0
END:VEVENT
BEGIN:VEVENT
DTSTART:20111212T100000Z
DTEND:20111212T113000Z
DCREATED:20110912T133541Z
UID:ATEvent-d2676a572635fd90a51ce90a5ac1bd10
SEQUENCE:0
LAST-MODIFIED:20111201T105658Z
SUMMARY:MTH-ODE
LOCATION:Lecture Room D
PRIORITY:3
TRANSP:0
END:VEVENT
BEGIN:VEVENT
DTSTART:20111213T100000Z
DTEND:20111213T113000Z
DCREATED:20110912T133640Z
UID:ATEvent-19e3714c02e91753bd123be8a0fce6b4
SEQUENCE:0
LAST-MODIFIED:20111208T102134Z
SUMMARY:MTH-DG
LOCATION:Lecture Room D
PRIORITY:3
TRANSP:0
END:VEVENT
BEGIN:VEVENT
DTSTART:20111214T100000Z
DTEND:20111214T113000Z
DCREATED:20111101T150408Z
UID:ATEvent-272ccf1fb792735ca7c0e15ab13bb6b6
SEQUENCE:0
LAST-MODIFIED:20111201T105725Z
SUMMARY:MTH-ODE
LOCATION:Lecture Room D
PRIORITY:3
TRANSP:0
END:VEVENT
BEGIN:VEVENT
DTSTART:20111215T100000Z
DTEND:20111215T113000Z
DCREATED:20110912T133809Z
UID:ATEvent-b896da412c1eee50fd7c87f1fd9a0a7a
SEQUENCE:0
LAST-MODIFIED:20111208T102143Z
SUMMARY:MTH-DG
LOCATION:Lecture Room D
PRIORITY:3
TRANSP:0
END:VEVENT
BEGIN:VEVENT
DTSTART:20111216T100000Z
DTEND:20111216T113000Z
DCREATED:20111201T105811Z
UID:ATEvent-b26e3797c18ed0aeec8e2fda19eddf31
SEQUENCE:0
LAST-MODIFIED:20111201T110544Z
SUMMARY:MTH-ODE
LOCATION:Lecture Room D
PRIORITY:3
TRANSP:0
END:VEVENT
BEGIN:VEVENT
DTSTART:20111212T130000Z
DTEND:20111212T143000Z
DCREATED:20110912T133438Z
UID:ATEvent-0b073d0500145171f2a4d14535c8d359
SEQUENCE:0
LAST-MODIFIED:20110912T133525Z
SUMMARY:CMP-SM
LOCATION:Lecture Room D
PRIORITY:3
TRANSP:0
END:VEVENT
BEGIN:VEVENT
DTSTART:20111213T130000Z
DTEND:20111213T143000Z
DCREATED:20111026T133211Z
UID:ATEvent-fde00049f10b7b8fe2ff7984df246f24
SEQUENCE:0
LAST-MODIFIED:20111205T093044Z
SUMMARY:CMP-SM
LOCATION:Lecture Room D
PRIORITY:3
TRANSP:0
END:VEVENT
BEGIN:VEVENT
DTSTART:20111214T130000Z
DTEND:20111214T143000Z
DCREATED:20110912T133722Z
UID:ATEvent-c45cac162c5b8e60a677248825251abb
SEQUENCE:0
LAST-MODIFIED:20110912T133755Z
SUMMARY:CMP-SM
LOCATION:Lecture Room D
PRIORITY:3
TRANSP:0
END:VEVENT
BEGIN:VEVENT
DTSTART:20111215T130000Z
DTEND:20111215T143000Z
DCREATED:20110912T133854Z
UID:ATEvent-00969770a2a5fd8b557e502ec2152cec
SEQUENCE:0
LAST-MODIFIED:20110912T140836Z
SUMMARY:CMP-SM
LOCATION:Lecture Room D
PRIORITY:3
TRANSP:0
END:VEVENT
BEGIN:VEVENT
DTSTART:20111216T130000Z
DTEND:20111216T143000Z
DCREATED:20110912T140856Z
UID:ATEvent-de238132746016ca1d2ae82d7d09a1f9
SEQUENCE:0
LAST-MODIFIED:20110912T141010Z
SUMMARY:CMP-Mtg.
LOCATION:Lecture Room D
PRIORITY:3
TRANSP:0
END:VEVENT
END:VCALENDAR
