BEGIN:VCALENDAR
PRODID:-//ICTPDiploma//ATRoom//EN
VERSION:1.0
BEGIN:VEVENT
DTSTART:20181210T080000Z
DTEND:20181210T093000Z
DCREATED:20180801T133311Z
UID:ATEvent-49fdc500a1194a34a6d2b68e51ff462b
SEQUENCE:0
LAST-MODIFIED:20180801T133311Z
SUMMARY:MTH-NTS
LOCATION:Lecture Room D
PRIORITY:3
TRANSP:0
END:VEVENT
BEGIN:VEVENT
DTSTART:20181211T080000Z
DTEND:20181211T093000Z
DCREATED:20180801T133311Z
UID:ATEvent-e71454e919cf4f78b636416c1afe172b
SEQUENCE:0
LAST-MODIFIED:20180801T133311Z
SUMMARY:MTH-NTS
LOCATION:Lecture Room D
PRIORITY:3
TRANSP:0
END:VEVENT
BEGIN:VEVENT
DTSTART:20181212T080000Z
DTEND:20181212T093000Z
DCREATED:20180806T100358Z
UID:ATEvent-0aee490fe5a146009364ee4e4f23d7f1
SEQUENCE:0
LAST-MODIFIED:20180806T100358Z
SUMMARY:MTH-RA
LOCATION:Lecture Room D
PRIORITY:3
TRANSP:0
END:VEVENT
BEGIN:VEVENT
DTSTART:20181213T080000Z
DTEND:20181213T093000Z
DCREATED:20180801T133312Z
UID:ATEvent-5b861140f819479c8994525a5ba04a80
SEQUENCE:0
LAST-MODIFIED:20180801T133312Z
SUMMARY:MTH-NTS
LOCATION:Lecture Room D
PRIORITY:3
TRANSP:0
END:VEVENT
BEGIN:VEVENT
DTSTART:20181214T080000Z
DTEND:20181214T093000Z
DCREATED:20180806T100358Z
UID:ATEvent-582d92f5c5c04912a92edf4bb03173f3
SEQUENCE:0
LAST-MODIFIED:20180806T100358Z
SUMMARY:MTH-RA
LOCATION:Lecture Room D
PRIORITY:3
TRANSP:0
END:VEVENT
BEGIN:VEVENT
DTSTART:20181213T100000Z
DTEND:20181213T113000Z
DCREATED:20181113T150037Z
UID:ATEvent-793c4f12c3ff472aa7cf141cfaf5aeb1
SEQUENCE:0
LAST-MODIFIED:20181113T150058Z
SUMMARY:MTH-RA tut.
LOCATION:Lecture Room D
PRIORITY:3
TRANSP:0
END:VEVENT
BEGIN:VEVENT
DTSTART:20181210T130000Z
DTEND:20181210T143000Z
DCREATED:20181016T105925Z
UID:ATEvent-0436b9bb8b964d2c936b5e184b38301b
SEQUENCE:0
LAST-MODIFIED:20181016T105944Z
SUMMARY:CMP-AQM
LOCATION:Lecture Room D
PRIORITY:3
TRANSP:0
END:VEVENT
BEGIN:VEVENT
DTSTART:20181211T130000Z
DTEND:20181211T143000Z
DCREATED:20181016T105948Z
UID:ATEvent-9a28543a07e8410ebab94157ca96c45d
SEQUENCE:0
LAST-MODIFIED:20181016T110007Z
SUMMARY:CMP-AQM
LOCATION:Lecture Room D
PRIORITY:3
TRANSP:0
END:VEVENT
BEGIN:VEVENT
DTSTART:20181213T130000Z
DTEND:20181213T143000Z
DCREATED:20181016T105303Z
UID:ATEvent-35d7ace0032f4f4196d9c9e817f51735
SEQUENCE:0
LAST-MODIFIED:20181029T132031Z
SUMMARY:CMP-AQM
LOCATION:Lecture Room D
PRIORITY:3
TRANSP:0
END:VEVENT
BEGIN:VEVENT
DTSTART:20181214T130000Z
DTEND:20181214T143000Z
DCREATED:20180802T140325Z
UID:ATEvent-58e0e3abe5ce43369b924bcb9fdb3e2c
SEQUENCE:0
LAST-MODIFIED:20180802T140325Z
SUMMARY:CMP-ST
LOCATION:Lecture Room D
PRIORITY:3
TRANSP:0
END:VEVENT
BEGIN:VEVENT
DTSTART:20181212T150000Z
DTEND:20181212T163000Z
DCREATED:20180802T140053Z
UID:ATEvent-c15b6fd8dadb4f1ea08bd29b99ed45ed
SEQUENCE:0
LAST-MODIFIED:20181127T151447Z
SUMMARY:CMP-AQM
LOCATION:Lecture Room D
PRIORITY:3
TRANSP:0
END:VEVENT
END:VCALENDAR
