BEGIN:VCALENDAR
PRODID:-//ICTPDiploma//ATRoom//EN
VERSION:1.0
BEGIN:VEVENT
DTSTART:20161206T080000Z
DTEND:20161206T093000Z
DCREATED:20161010T114131Z
UID:ATEvent-7dbf4e9ed6e948ff80bc921ea3599a06
SEQUENCE:0
LAST-MODIFIED:20161114T095930Z
SUMMARY:MTH-CA
LOCATION:Lecture Room D
PRIORITY:3
TRANSP:0
END:VEVENT
BEGIN:VEVENT
DTSTART:20161209T080000Z
DTEND:20161209T093000Z
DCREATED:20161018T132042Z
UID:ATEvent-cbcb1b099a894168a4aabb21ace1145a
SEQUENCE:0
LAST-MODIFIED:20161018T132106Z
SUMMARY:MTH-CS tut.
LOCATION:Lecture Room D
PRIORITY:3
TRANSP:0
END:VEVENT
BEGIN:VEVENT
DTSTART:20161205T100000Z
DTEND:20161205T113000Z
DCREATED:20161010T145433Z
UID:ATEvent-616daab39ce24740af1bd6ae985ff9e3
SEQUENCE:0
LAST-MODIFIED:20161010T145452Z
SUMMARY:MTH-ALG
LOCATION:Lecture Room D
PRIORITY:3
TRANSP:0
END:VEVENT
BEGIN:VEVENT
DTSTART:20161206T100000Z
DTEND:20161206T113000Z
DCREATED:20161010T114209Z
UID:ATEvent-6ed89ea5f3564f52ba54b9a1b1858aed
SEQUENCE:0
LAST-MODIFIED:20161114T095953Z
SUMMARY:EXAM
LOCATION:Lecture Room D
PRIORITY:3
TRANSP:0
END:VEVENT
BEGIN:VEVENT
DTSTART:20161209T100000Z
DTEND:20161209T113000Z
DCREATED:20160913T142754Z
UID:ATEvent-1f81e0e3b9ac494e90017951f88fd458
SEQUENCE:0
LAST-MODIFIED:20160913T142839Z
SUMMARY:MTH-DS tut.
LOCATION:Lecture Room D
PRIORITY:3
TRANSP:0
END:VEVENT
BEGIN:VEVENT
DTSTART:20161205T130000Z
DTEND:20161205T143000Z
DCREATED:20160823T080641Z
UID:ATEvent-e87f41ce5b2a46059750ce57d89d29d2
SEQUENCE:0
LAST-MODIFIED:20160823T080641Z
SUMMARY:CMP-AQM
LOCATION:Lecture Room D
PRIORITY:3
TRANSP:0
END:VEVENT
BEGIN:VEVENT
DTSTART:20161206T130000Z
DTEND:20161206T143000Z
DCREATED:20160823T080641Z
UID:ATEvent-4f09d1a404a3425bb65585fedfd30811
SEQUENCE:0
LAST-MODIFIED:20160823T080641Z
SUMMARY:CMP-AQM
LOCATION:Lecture Room D
PRIORITY:3
TRANSP:0
END:VEVENT
BEGIN:VEVENT
DTSTART:20161207T130000Z
DTEND:20161207T143000Z
DCREATED:20160823T080641Z
UID:ATEvent-e6c2203e459b4cd7b4a3fa25cd19bc7b
SEQUENCE:0
LAST-MODIFIED:20160823T080641Z
SUMMARY:CMP-AQM
LOCATION:Lecture Room D
PRIORITY:3
TRANSP:0
END:VEVENT
BEGIN:VEVENT
DTSTART:20161208T130000Z
DTEND:20161208T143000Z
DCREATED:20161018T132006Z
UID:ATEvent-eb87164e45834f9bbba2cbf0b8150096
SEQUENCE:0
LAST-MODIFIED:20161018T132030Z
SUMMARY:MTH-ALG tut.
LOCATION:Lecture Room D
PRIORITY:3
TRANSP:0
END:VEVENT
BEGIN:VEVENT
DTSTART:20161209T130000Z
DTEND:20161209T143000Z
DCREATED:20160823T080343Z
UID:ATEvent-2e5e35fc0ded4bf892d1eaf01191bfd4
SEQUENCE:0
LAST-MODIFIED:20160823T080344Z
SUMMARY:CMP-ST
LOCATION:Lecture Room D
PRIORITY:3
TRANSP:0
END:VEVENT
BEGIN:VEVENT
DTSTART:20161205T150000Z
DTEND:20161205T163000Z
DCREATED:20160720T131105Z
UID:ATEvent-95c85bf726a34adba0dc70a8bed2088e
SEQUENCE:0
LAST-MODIFIED:20160720T131105Z
SUMMARY:MTH-DS
LOCATION:Lecture Room D
PRIORITY:3
TRANSP:0
END:VEVENT
BEGIN:VEVENT
DTSTART:20161206T150000Z
DTEND:20161206T163000Z
DCREATED:20160901T134944Z
UID:ATEvent-5cf2631029bd44e686724f7c2d78779f
SEQUENCE:0
LAST-MODIFIED:20161116T105846Z
SUMMARY:CMP-SM
LOCATION:Lecture Room D
PRIORITY:3
TRANSP:0
END:VEVENT
BEGIN:VEVENT
DTSTART:20161208T150000Z
DTEND:20161208T163000Z
DCREATED:20160720T131105Z
UID:ATEvent-b468eaf8692144efabc490aafded50de
SEQUENCE:0
LAST-MODIFIED:20161207T100800Z
SUMMARY:MTH-DS
LOCATION:Lecture Room D
PRIORITY:3
TRANSP:0
END:VEVENT
END:VCALENDAR
