BEGIN:VCALENDAR
PRODID:-//ICTPDiploma//ATRoom//EN
VERSION:1.0
BEGIN:VEVENT
DTSTART:20131118T080000Z
DTEND:20131118T093000Z
DCREATED:20130814T092001Z
UID:ATEvent-d9c5cee24b2d4f3db75131b7e00cb13f
SEQUENCE:0
LAST-MODIFIED:20130814T092639Z
SUMMARY:CMP-EPS
LOCATION:Lecture Room D
PRIORITY:3
TRANSP:0
END:VEVENT
BEGIN:VEVENT
DTSTART:20131119T080000Z
DTEND:20131119T093000Z
DCREATED:20130814T092002Z
UID:ATEvent-a54fb5399645426f9b31b37e031870b9
SEQUENCE:0
LAST-MODIFIED:20130814T092839Z
SUMMARY:CMP-EPS
LOCATION:Lecture Room D
PRIORITY:3
TRANSP:0
END:VEVENT
BEGIN:VEVENT
DTSTART:20131121T080000Z
DTEND:20131121T093000Z
DCREATED:20130814T092002Z
UID:ATEvent-d128f52024d84d3d8efbb950762260c4
SEQUENCE:0
LAST-MODIFIED:20130814T092703Z
SUMMARY:CMP-EPS tut. 2
LOCATION:Lecture Room D
PRIORITY:3
TRANSP:0
END:VEVENT
BEGIN:VEVENT
DTSTART:20131119T100000Z
DTEND:20131119T113000Z
DCREATED:20130814T091634Z
UID:ATEvent-7dc6866362144960971a858dbe43b6c9
SEQUENCE:0
LAST-MODIFIED:20130814T091634Z
SUMMARY:CMP-AQM
LOCATION:Lecture Room D
PRIORITY:3
TRANSP:0
END:VEVENT
BEGIN:VEVENT
DTSTART:20131121T100000Z
DTEND:20131121T113000Z
DCREATED:20130814T091634Z
UID:ATEvent-ef4a7168a39d4d11ae135a98d9fc961d
SEQUENCE:0
LAST-MODIFIED:20130814T091634Z
SUMMARY:CMP-AQM
LOCATION:Lecture Room D
PRIORITY:3
TRANSP:0
END:VEVENT
BEGIN:VEVENT
DTSTART:20131118T130000Z
DTEND:20131118T143000Z
DCREATED:20130814T094259Z
UID:ATEvent-54427302d8014a5fa75fc673991c70fa
SEQUENCE:0
LAST-MODIFIED:20130814T094259Z
SUMMARY:CMP-SM
LOCATION:Lecture Room D
PRIORITY:3
TRANSP:0
END:VEVENT
BEGIN:VEVENT
DTSTART:20131119T130000Z
DTEND:20131119T143000Z
DCREATED:20131015T102019Z
UID:ATEvent-ec0bcf7dfebf4bfcb39d2ac2dd7b8ce9
SEQUENCE:0
LAST-MODIFIED:20131015T102039Z
SUMMARY:MTH-RA
LOCATION:Lecture Room D
PRIORITY:3
TRANSP:0
END:VEVENT
BEGIN:VEVENT
DTSTART:20131121T130000Z
DTEND:20131121T143000Z
DCREATED:20130814T094259Z
UID:ATEvent-5e82c6eea87d49fdb3620a31267f256b
SEQUENCE:0
LAST-MODIFIED:20130814T094300Z
SUMMARY:CMP-SM
LOCATION:Lecture Room D
PRIORITY:3
TRANSP:0
END:VEVENT
BEGIN:VEVENT
DTSTART:20131122T130000Z
DTEND:20131122T143000Z
DCREATED:20130814T094502Z
UID:ATEvent-9d9fb895fc154421a5ffa42708a5fedd
SEQUENCE:0
LAST-MODIFIED:20130814T094502Z
SUMMARY:CMP-ST I
LOCATION:Lecture Room D
PRIORITY:3
TRANSP:0
END:VEVENT
BEGIN:VEVENT
DTSTART:20131119T150000Z
DTEND:20131119T163000Z
DCREATED:20131015T102046Z
UID:ATEvent-65018b4cad3445978f4e97812e76cfa0
SEQUENCE:0
LAST-MODIFIED:20131015T102104Z
SUMMARY:EXAM
LOCATION:Lecture Room D
PRIORITY:3
TRANSP:0
END:VEVENT
END:VCALENDAR
