BEGIN:VCALENDAR
PRODID:-//ICTPDiploma//ATRoom//EN
VERSION:1.0
BEGIN:VEVENT
DTSTART:20111114T080000Z
DTEND:20111114T093000Z
DCREATED:20111024T141919Z
UID:ATEvent-e68f87b6b115986f36f520de0ad0e2e2
SEQUENCE:0
LAST-MODIFIED:20111109T144403Z
SUMMARY:MTH-TOP
LOCATION:Lecture Room D
PRIORITY:3
TRANSP:0
END:VEVENT
BEGIN:VEVENT
DTSTART:20111115T080000Z
DTEND:20111115T093000Z
DCREATED:20110908T131101Z
UID:ATEvent-8b31090f5c4b16133462d94fd57cf827
SEQUENCE:0
LAST-MODIFIED:20110908T131129Z
SUMMARY:MTH-DG
LOCATION:Lecture Room D
PRIORITY:3
TRANSP:0
END:VEVENT
BEGIN:VEVENT
DTSTART:20111116T080000Z
DTEND:20111116T093000Z
DCREATED:20111108T133440Z
UID:ATEvent-ae200f649b7e1b129ac009fed2a66a4c
SEQUENCE:0
LAST-MODIFIED:20111108T133504Z
SUMMARY:MTH-DG tut.
LOCATION:Lecture Room D
PRIORITY:3
TRANSP:0
END:VEVENT
BEGIN:VEVENT
DTSTART:20111117T080000Z
DTEND:20111117T093000Z
DCREATED:20110908T132919Z
UID:ATEvent-36e1f93575d640dacd6d7209e6032088
SEQUENCE:0
LAST-MODIFIED:20110908T132944Z
SUMMARY:MTH-DG
LOCATION:Lecture Room D
PRIORITY:3
TRANSP:0
END:VEVENT
BEGIN:VEVENT
DTSTART:20111114T100000Z
DTEND:20111114T113000Z
DCREATED:20111101T145711Z
UID:ATEvent-565776ae7bf097deb5ee0df4168f0137
SEQUENCE:0
LAST-MODIFIED:20111101T145742Z
SUMMARY:MTH-RA
LOCATION:Lecture Room D
PRIORITY:3
TRANSP:0
END:VEVENT
BEGIN:VEVENT
DTSTART:20111115T100000Z
DTEND:20111115T113000Z
DCREATED:20110908T132443Z
UID:ATEvent-c4244122c9549e10c3a4cfe49ce3969a
SEQUENCE:0
LAST-MODIFIED:20110908T132514Z
SUMMARY:MTH-RA
LOCATION:Lecture Room D
PRIORITY:3
TRANSP:0
END:VEVENT
BEGIN:VEVENT
DTSTART:20111116T100000Z
DTEND:20111116T113000Z
DCREATED:20110908T132625Z
UID:ATEvent-b60adac24fee4cd40c4d233a5f008417
SEQUENCE:0
LAST-MODIFIED:20110908T132744Z
SUMMARY:CMP-AQM
LOCATION:Lecture Room D
PRIORITY:3
TRANSP:0
END:VEVENT
BEGIN:VEVENT
DTSTART:20111117T100000Z
DTEND:20111117T113000Z
DCREATED:20110908T132954Z
UID:ATEvent-62470a41296a2c463979e7725edacd82
SEQUENCE:0
LAST-MODIFIED:20110908T133055Z
SUMMARY:MTH-RA
LOCATION:Lecture Room D
PRIORITY:3
TRANSP:0
END:VEVENT
BEGIN:VEVENT
DTSTART:20111118T100000Z
DTEND:20111118T113000Z
DCREATED:20110908T133433Z
UID:ATEvent-c520ea00770f184a46f47abc76662261
SEQUENCE:0
LAST-MODIFIED:20110908T133458Z
SUMMARY:CMP-AQM
LOCATION:Lecture Room D
PRIORITY:3
TRANSP:0
END:VEVENT
BEGIN:VEVENT
DTSTART:20111114T130000Z
DTEND:20111114T143000Z
DCREATED:20110908T130936Z
UID:ATEvent-4b82e4f1667ef0a83b03f78d1e5720b5
SEQUENCE:0
LAST-MODIFIED:20110908T131016Z
SUMMARY:CMP-SM
LOCATION:Lecture Room D
PRIORITY:3
TRANSP:0
END:VEVENT
BEGIN:VEVENT
DTSTART:20111116T130000Z
DTEND:20111116T143000Z
DCREATED:20110908T132804Z
UID:ATEvent-5447f50d77de5ce960e3a476e2b9cb78
SEQUENCE:0
LAST-MODIFIED:20110908T132828Z
SUMMARY:CMP-SM
LOCATION:Lecture Room D
PRIORITY:3
TRANSP:0
END:VEVENT
BEGIN:VEVENT
DTSTART:20111117T130000Z
DTEND:20111117T143000Z
DCREATED:20110908T133117Z
UID:ATEvent-68f2db3f91ce8bb1d7fe52cb86a50f9c
SEQUENCE:0
LAST-MODIFIED:20110908T133143Z
SUMMARY:CMP-SM
LOCATION:Lecture Room D
PRIORITY:3
TRANSP:0
END:VEVENT
BEGIN:VEVENT
DTSTART:20111118T130000Z
DTEND:20111118T143000Z
DCREATED:20110908T133509Z
UID:ATEvent-fb7cd6d4955f81f74eb244c37addc0ed
SEQUENCE:0
LAST-MODIFIED:20110908T133538Z
SUMMARY:CMP-Mtg.
LOCATION:Lecture Room D
PRIORITY:3
TRANSP:0
END:VEVENT
BEGIN:VEVENT
DTSTART:20111114T150000Z
DTEND:20111114T163000Z
DCREATED:20111110T152626Z
UID:ATEvent-4d8d6fc8954026174f331c15737e4303
SEQUENCE:0
LAST-MODIFIED:20111110T152659Z
SUMMARY:CMP-AQM tut.
LOCATION:Lecture Room D
PRIORITY:3
TRANSP:0
END:VEVENT
BEGIN:VEVENT
DTSTART:20111117T150000Z
DTEND:20111117T163000Z
DCREATED:20111026T131948Z
UID:ATEvent-f50278ffb602a56d3b4e1a81c07b7f13
SEQUENCE:0
LAST-MODIFIED:20111026T132023Z
SUMMARY:CMP-SM tut.
LOCATION:Lecture Room D
PRIORITY:3
TRANSP:0
END:VEVENT
END:VCALENDAR
