BEGIN:VCALENDAR
PRODID:-//ICTPDiploma//ATRoom//EN
VERSION:1.0
BEGIN:VEVENT
DTSTART:20131104T080000Z
DTEND:20131104T093000Z
DCREATED:20130814T092000Z
UID:ATEvent-5020b791c66846c69771a92e481e0d5a
SEQUENCE:0
LAST-MODIFIED:20130814T092438Z
SUMMARY:CMP-EPS
LOCATION:Lecture Room D
PRIORITY:3
TRANSP:0
END:VEVENT
BEGIN:VEVENT
DTSTART:20131105T080000Z
DTEND:20131105T093000Z
DCREATED:20130814T092001Z
UID:ATEvent-651bf6574ecb409fb24a59ccfa917686
SEQUENCE:0
LAST-MODIFIED:20130814T092454Z
SUMMARY:CMP-EPS
LOCATION:Lecture Room D
PRIORITY:3
TRANSP:0
END:VEVENT
BEGIN:VEVENT
DTSTART:20131107T080000Z
DTEND:20131107T093000Z
DCREATED:20130814T092001Z
UID:ATEvent-b52ac1213cb9470293f7c33c69b997bc
SEQUENCE:0
LAST-MODIFIED:20130814T092511Z
SUMMARY:CMP-EPS
LOCATION:Lecture Room D
PRIORITY:3
TRANSP:0
END:VEVENT
BEGIN:VEVENT
DTSTART:20131105T100000Z
DTEND:20131105T113000Z
DCREATED:20131104T094809Z
UID:ATEvent-5b170d58ecca459dbd53e421e7cdaef1
SEQUENCE:0
LAST-MODIFIED:20131104T094837Z
SUMMARY:CMP-AQM
LOCATION:Lecture Room D
PRIORITY:3
TRANSP:0
END:VEVENT
BEGIN:VEVENT
DTSTART:20131106T100000Z
DTEND:20131106T113000Z
DCREATED:20131104T094849Z
UID:ATEvent-10437b4f9ffe4120b94a454a7c5e600f
SEQUENCE:0
LAST-MODIFIED:20131104T094906Z
SUMMARY:CMP-AQM
LOCATION:Lecture Room D
PRIORITY:3
TRANSP:0
END:VEVENT
BEGIN:VEVENT
DTSTART:20131104T130000Z
DTEND:20131104T143000Z
DCREATED:20130814T094258Z
UID:ATEvent-a5551ee3b9174bf1b4b5f42cb3ed8544
SEQUENCE:0
LAST-MODIFIED:20130814T094258Z
SUMMARY:CMP-SM
LOCATION:Lecture Room D
PRIORITY:3
TRANSP:0
END:VEVENT
BEGIN:VEVENT
DTSTART:20131106T130000Z
DTEND:20131106T143000Z
DCREATED:20130814T094258Z
UID:ATEvent-20fe371b3e0f48f3abd1d7daf31a7644
SEQUENCE:0
LAST-MODIFIED:20130814T094258Z
SUMMARY:CMP-SM
LOCATION:Lecture Room D
PRIORITY:3
TRANSP:0
END:VEVENT
BEGIN:VEVENT
DTSTART:20131107T130000Z
DTEND:20131107T143000Z
DCREATED:20130814T094258Z
UID:ATEvent-3d000af79868428aae6b208d7d1e9706
SEQUENCE:0
LAST-MODIFIED:20130814T094259Z
SUMMARY:CMP-SM
LOCATION:Lecture Room D
PRIORITY:3
TRANSP:0
END:VEVENT
BEGIN:VEVENT
DTSTART:20131108T130000Z
DTEND:20131108T143000Z
DCREATED:20130814T094502Z
UID:ATEvent-fb6b03c099e74df38f8fdccf9c51ed35
SEQUENCE:0
LAST-MODIFIED:20130814T094502Z
SUMMARY:CMP-ST I
LOCATION:Lecture Room D
PRIORITY:3
TRANSP:0
END:VEVENT
BEGIN:VEVENT
DTSTART:20131108T150000Z
DTEND:20131108T163000Z
DCREATED:20131029T080809Z
UID:ATEvent-93cee6450140469cbd0e3d29a0735e7b
SEQUENCE:0
LAST-MODIFIED:20131029T080840Z
SUMMARY:CMP-AQM tut. 1
LOCATION:Lecture Room D
PRIORITY:3
TRANSP:0
END:VEVENT
END:VCALENDAR
