BEGIN:VCALENDAR
PRODID:-//ICTPDiploma//ATRoom//EN
VERSION:1.0
BEGIN:VEVENT
DTSTART:20090929T090000Z
DTEND:20090929T103000Z
DCREATED:20090909T140702Z
UID:ATEvent-839d35f9a87a6a4ba60f4b5c960ae589
SEQUENCE:0
LAST-MODIFIED:20090909T140729Z
SUMMARY:MTH-CA
LOCATION:Lecture Room D
PRIORITY:3
TRANSP:0
END:VEVENT
BEGIN:VEVENT
DTSTART:20091001T090000Z
DTEND:20091001T103000Z
DCREATED:20090909T140747Z
UID:ATEvent-5ec86a04634f2279f20c6e8e93748c06
SEQUENCE:0
LAST-MODIFIED:20090909T140815Z
SUMMARY:MTH-CA
LOCATION:Lecture Room D
PRIORITY:3
TRANSP:0
END:VEVENT
BEGIN:VEVENT
DTSTART:20090929T120000Z
DTEND:20090929T133000Z
DCREATED:20090909T071517Z
UID:ATEvent-3465548ca4083afdcd8b753fbc35086f
SEQUENCE:0
LAST-MODIFIED:20090909T071616Z
SUMMARY:CMP-SM
LOCATION:Lecture Room D
PRIORITY:3
TRANSP:0
END:VEVENT
BEGIN:VEVENT
DTSTART:20091001T120000Z
DTEND:20091001T133000Z
DCREATED:20090924T132548Z
UID:ATEvent-d7ec6170f1043dcc626e8884f78a4255
SEQUENCE:0
LAST-MODIFIED:20090924T132628Z
SUMMARY:Welcome Ceremony Main Lecture Hall
LOCATION:Lecture Room D
PRIORITY:3
TRANSP:0
END:VEVENT
BEGIN:VEVENT
DTSTART:20090928T140000Z
DTEND:20090928T153000Z
DCREATED:20090909T134122Z
UID:ATEvent-2a0a6f154790a3909550b82d7552b92a
SEQUENCE:0
LAST-MODIFIED:20090909T134150Z
SUMMARY:MTH-TOP
LOCATION:Lecture Room D
PRIORITY:3
TRANSP:0
END:VEVENT
BEGIN:VEVENT
DTSTART:20090929T140000Z
DTEND:20090929T153000Z
DCREATED:20090909T134208Z
UID:ATEvent-3220c5df15ffd3295a187478dfec11f9
SEQUENCE:0
LAST-MODIFIED:20090909T134235Z
SUMMARY:MTH-TOP
LOCATION:Lecture Room D
PRIORITY:3
TRANSP:0
END:VEVENT
BEGIN:VEVENT
DTSTART:20091001T140000Z
DTEND:20091001T153000Z
DCREATED:20090909T071629Z
UID:ATEvent-cf9c6718d924e38013860c8deb0be438
SEQUENCE:0
LAST-MODIFIED:20090924T132025Z
SUMMARY:CMP-SM
LOCATION:Lecture Room D
PRIORITY:3
TRANSP:0
END:VEVENT
END:VCALENDAR
