BEGIN:VCALENDAR
PRODID:-//ICTPDiploma//ATRoom//EN
VERSION:1.0
BEGIN:VEVENT
DTSTART:20140922T070000Z
DTEND:20140922T083000Z
DCREATED:20140827T094031Z
UID:ATEvent-066435bd1ac24a54acbe78600956a13c
SEQUENCE:0
LAST-MODIFIED:20140827T094031Z
SUMMARY:MTH-CA
LOCATION:Lecture Room D
PRIORITY:3
TRANSP:0
END:VEVENT
BEGIN:VEVENT
DTSTART:20140923T070000Z
DTEND:20140923T083000Z
DCREATED:20140827T093657Z
UID:ATEvent-3a70232340eb4727a022a907b59bea8a
SEQUENCE:0
LAST-MODIFIED:20140827T093657Z
SUMMARY:MTH-INT
LOCATION:Lecture Room D
PRIORITY:3
TRANSP:0
END:VEVENT
BEGIN:VEVENT
DTSTART:20140924T070000Z
DTEND:20140924T083000Z
DCREATED:20140827T094031Z
UID:ATEvent-b1d30ad7644e419daf797032b43d42db
SEQUENCE:0
LAST-MODIFIED:20140827T094031Z
SUMMARY:MTH-CA
LOCATION:Lecture Room D
PRIORITY:3
TRANSP:0
END:VEVENT
BEGIN:VEVENT
DTSTART:20140925T070000Z
DTEND:20140925T083000Z
DCREATED:20140827T093657Z
UID:ATEvent-4103fc7bf7ec4d18b99b7b9bb89c1b4b
SEQUENCE:0
LAST-MODIFIED:20140827T093658Z
SUMMARY:MTH-INT
LOCATION:Lecture Room D
PRIORITY:3
TRANSP:0
END:VEVENT
BEGIN:VEVENT
DTSTART:20140926T070000Z
DTEND:20140926T083000Z
DCREATED:20140827T094031Z
UID:ATEvent-546d9d55a33544bd878690061b947710
SEQUENCE:0
LAST-MODIFIED:20140827T094031Z
SUMMARY:MTH-CA
LOCATION:Lecture Room D
PRIORITY:3
TRANSP:0
END:VEVENT
BEGIN:VEVENT
DTSTART:20140923T090000Z
DTEND:20140923T103000Z
DCREATED:20140902T121453Z
UID:ATEvent-5305049a01a242139e7db3807e074639
SEQUENCE:0
LAST-MODIFIED:20140902T121515Z
SUMMARY:MTH-ALG
LOCATION:Lecture Room D
PRIORITY:3
TRANSP:0
END:VEVENT
BEGIN:VEVENT
DTSTART:20140925T090000Z
DTEND:20140925T103000Z
DCREATED:20140902T121527Z
UID:ATEvent-196e278976334451b9e64cf91515d939
SEQUENCE:0
LAST-MODIFIED:20140902T121614Z
SUMMARY:MTH-ALG
LOCATION:Lecture Room D
PRIORITY:3
TRANSP:0
END:VEVENT
BEGIN:VEVENT
DTSTART:20140926T090000Z
DTEND:20140926T103000Z
DCREATED:20140827T094444Z
UID:ATEvent-3df1311c0b9340a5a6305f65581f3a24
SEQUENCE:0
LAST-MODIFIED:20140827T094444Z
SUMMARY:MTH-RA
LOCATION:Lecture Room D
PRIORITY:3
TRANSP:0
END:VEVENT
BEGIN:VEVENT
DTSTART:20140923T120000Z
DTEND:20140923T133000Z
DCREATED:20140828T132033Z
UID:ATEvent-925d5443b6b5486d929434194ae6fc59
SEQUENCE:0
LAST-MODIFIED:20140828T132033Z
SUMMARY:CMP-AQM
LOCATION:Lecture Room D
PRIORITY:3
TRANSP:0
END:VEVENT
BEGIN:VEVENT
DTSTART:20140924T120000Z
DTEND:20140924T133000Z
DCREATED:20140828T132033Z
UID:ATEvent-a019000ca85248f5b5bad731631fb8a7
SEQUENCE:0
LAST-MODIFIED:20140828T132033Z
SUMMARY:CMP-AQM
LOCATION:Lecture Room D
PRIORITY:3
TRANSP:0
END:VEVENT
BEGIN:VEVENT
DTSTART:20140925T120000Z
DTEND:20140925T133000Z
DCREATED:20140828T132033Z
UID:ATEvent-96f40a6c2c2c4dee9d51a73c2403f9c2
SEQUENCE:0
LAST-MODIFIED:20140828T132033Z
SUMMARY:CMP-AQM
LOCATION:Lecture Room D
PRIORITY:3
TRANSP:0
END:VEVENT
BEGIN:VEVENT
DTSTART:20140926T120000Z
DTEND:20140926T133000Z
DCREATED:20140912T130951Z
UID:ATEvent-8327ac8aa02b4d5d89a14e2db4dafc87
SEQUENCE:0
LAST-MODIFIED:20140912T131011Z
SUMMARY:CMP-MT
LOCATION:Lecture Room D
PRIORITY:3
TRANSP:0
END:VEVENT
BEGIN:VEVENT
DTSTART:20140922T140000Z
DTEND:20140922T153000Z
DCREATED:20140827T092055Z
UID:ATEvent-4adc4ec577804168b7a84ce9163ba13f
SEQUENCE:0
LAST-MODIFIED:20140827T092055Z
SUMMARY:MTH-TOP
LOCATION:Lecture Room D
PRIORITY:3
TRANSP:0
END:VEVENT
BEGIN:VEVENT
DTSTART:20140923T140000Z
DTEND:20140923T153000Z
DCREATED:20140827T092055Z
UID:ATEvent-ffbb98b73a45436cb775ed5b0b7a0254
SEQUENCE:0
LAST-MODIFIED:20140827T092055Z
SUMMARY:MTH-TOP
LOCATION:Lecture Room D
PRIORITY:3
TRANSP:0
END:VEVENT
BEGIN:VEVENT
DTSTART:20140926T140000Z
DTEND:20140926T153000Z
DCREATED:20140912T131017Z
UID:ATEvent-b533f7285eee4bc1bb7f38c0a7e12d83
SEQUENCE:0
LAST-MODIFIED:20140912T131116Z
SUMMARY:EXAM
LOCATION:Lecture Room D
PRIORITY:3
TRANSP:0
END:VEVENT
END:VCALENDAR
