BEGIN:VCALENDAR
PRODID:-//ICTPDiploma//ATRoom//EN
VERSION:1.0
BEGIN:VEVENT
DTSTART:20100524T070000Z
DTEND:20100524T083000Z
DCREATED:20100519T090341Z
UID:ATEvent-6bc2ae3ae9a7f19e4203672a4ceea77d
SEQUENCE:0
LAST-MODIFIED:20100519T090428Z
SUMMARY:CMP-ES
LOCATION:Lecture Room D
PRIORITY:3
TRANSP:0
END:VEVENT
BEGIN:VEVENT
DTSTART:20100525T070000Z
DTEND:20100525T083000Z
DCREATED:20100505T124442Z
UID:ATEvent-07e3363a13550a9c5a342b3d4ea957c9
SEQUENCE:0
LAST-MODIFIED:20100505T124514Z
SUMMARY:9:30 MTH-AG
LOCATION:Lecture Room D
PRIORITY:3
TRANSP:0
END:VEVENT
BEGIN:VEVENT
DTSTART:20100525T090000Z
DTEND:20100525T103000Z
DCREATED:20100505T124529Z
UID:ATEvent-d76655c8bdcf4e690486bf2db03cffe0
SEQUENCE:0
LAST-MODIFIED:20100505T124601Z
SUMMARY:EXAM
LOCATION:Lecture Room D
PRIORITY:3
TRANSP:0
END:VEVENT
BEGIN:VEVENT
DTSTART:20100525T120000Z
DTEND:20100525T133000Z
DCREATED:20100416T124114Z
UID:ATEvent-f9820fad967cade4230a5cdfb4102f23
SEQUENCE:0
LAST-MODIFIED:20100416T124200Z
SUMMARY:MTH-PTH
LOCATION:Lecture Room D
PRIORITY:3
TRANSP:0
END:VEVENT
BEGIN:VEVENT
DTSTART:20100527T120000Z
DTEND:20100527T133000Z
DCREATED:20100416T124210Z
UID:ATEvent-230f9ec666970bb9970d58bfe3c0a875
SEQUENCE:0
LAST-MODIFIED:20100416T124231Z
SUMMARY:MTH-PTH
LOCATION:Lecture Room D
PRIORITY:3
TRANSP:0
END:VEVENT
END:VCALENDAR
