BEGIN:VCALENDAR
PRODID:-//ICTPDiploma//ATRoom//EN
VERSION:1.0
BEGIN:VEVENT
DTSTART:20150403T070000Z
DTEND:20150403T083000Z
DCREATED:20150327T135811Z
UID:ATEvent-687fdf0a8d924a749d33a768c5804dff
SEQUENCE:0
LAST-MODIFIED:20150327T135856Z
SUMMARY:GOOD FRIDAY
LOCATION:Lecture Room D
PRIORITY:3
TRANSP:0
END:VEVENT
BEGIN:VEVENT
DTSTART:20150330T090000Z
DTEND:20150330T103000Z
DCREATED:20141219T090713Z
UID:ATEvent-503c9a9c84ef4a528842d4413b0b8606
SEQUENCE:0
LAST-MODIFIED:20141219T090713Z
SUMMARY:CMP-ASM
LOCATION:Lecture Room D
PRIORITY:3
TRANSP:0
END:VEVENT
BEGIN:VEVENT
DTSTART:20150331T090000Z
DTEND:20150331T103000Z
DCREATED:20141125T120446Z
UID:ATEvent-3cd52265687a4c5dbb08a63498f7012f
SEQUENCE:0
LAST-MODIFIED:20141125T120447Z
SUMMARY:MTH-DG
LOCATION:Lecture Room D
PRIORITY:3
TRANSP:0
END:VEVENT
BEGIN:VEVENT
DTSTART:20150402T090000Z
DTEND:20150402T103000Z
DCREATED:20141125T120447Z
UID:ATEvent-43eac857d39f483989125b6f915d06b0
SEQUENCE:0
LAST-MODIFIED:20141125T120447Z
SUMMARY:MTH-DG
LOCATION:Lecture Room D
PRIORITY:3
TRANSP:0
END:VEVENT
BEGIN:VEVENT
DTSTART:20150403T090000Z
DTEND:20150403T103000Z
DCREATED:20150327T135904Z
UID:ATEvent-5246f84c172d4f9d8ce1c4910959cbbe
SEQUENCE:0
LAST-MODIFIED:20150327T135927Z
SUMMARY:ICTP official holiday
LOCATION:Lecture Room D
PRIORITY:3
TRANSP:0
END:VEVENT
BEGIN:VEVENT
DTSTART:20150330T120000Z
DTEND:20150330T133000Z
DCREATED:20150327T135346Z
UID:ATEvent-78e837472a484e1db0435179056cd5de
SEQUENCE:0
LAST-MODIFIED:20150327T135438Z
SUMMARY:MTH-ALT
LOCATION:Lecture Room D
PRIORITY:3
TRANSP:0
END:VEVENT
BEGIN:VEVENT
DTSTART:20150331T120000Z
DTEND:20150331T133000Z
DCREATED:20141219T091346Z
UID:ATEvent-11c46f0dba2741f9be89d29f17e995c8
SEQUENCE:0
LAST-MODIFIED:20141219T091346Z
SUMMARY:CMP-ASM
LOCATION:Lecture Room D
PRIORITY:3
TRANSP:0
END:VEVENT
BEGIN:VEVENT
DTSTART:20150401T120000Z
DTEND:20150401T133000Z
DCREATED:20150327T135541Z
UID:ATEvent-433e0194c8f242528425cb38d484c403
SEQUENCE:0
LAST-MODIFIED:20150327T135616Z
SUMMARY:MTH-ALT
LOCATION:Lecture Room D
PRIORITY:3
TRANSP:0
END:VEVENT
BEGIN:VEVENT
DTSTART:20150402T120000Z
DTEND:20150402T133000Z
DCREATED:20150327T135716Z
UID:ATEvent-9aeca6c4b11d420f9fea2b3a5dd8ac1f
SEQUENCE:0
LAST-MODIFIED:20150327T135753Z
SUMMARY:MTH-DG tut.
LOCATION:Lecture Room D
PRIORITY:3
TRANSP:0
END:VEVENT
BEGIN:VEVENT
DTSTART:20150403T120000Z
DTEND:20150403T153000Z
DCREATED:20150327T135937Z
UID:ATEvent-0696acbc3686404b8112b234093ef54c
SEQUENCE:0
LAST-MODIFIED:20150327T135955Z
SUMMARY:
LOCATION:Lecture Room D
PRIORITY:3
TRANSP:0
END:VEVENT
BEGIN:VEVENT
DTSTART:20150330T140000Z
DTEND:20150330T153000Z
DCREATED:20141126T144030Z
UID:ATEvent-77ffaf7c1659460ab37dead898c7f0b2
SEQUENCE:0
LAST-MODIFIED:20141126T144030Z
SUMMARY:MTH-PDE
LOCATION:Lecture Room D
PRIORITY:3
TRANSP:0
END:VEVENT
BEGIN:VEVENT
DTSTART:20150331T140000Z
DTEND:20150331T153000Z
DCREATED:20141126T144030Z
UID:ATEvent-0b8f361d035d4abaaf8742cd197814df
SEQUENCE:0
LAST-MODIFIED:20141126T144030Z
SUMMARY:MTH-PDE
LOCATION:Lecture Room D
PRIORITY:3
TRANSP:0
END:VEVENT
BEGIN:VEVENT
DTSTART:20150401T140000Z
DTEND:20150401T153000Z
DCREATED:20141126T144030Z
UID:ATEvent-11537ababac849a9aa7ba6f8ecc8a4f0
SEQUENCE:0
LAST-MODIFIED:20141126T144031Z
SUMMARY:MTH-PDE
LOCATION:Lecture Room D
PRIORITY:3
TRANSP:0
END:VEVENT
BEGIN:VEVENT
DTSTART:20150402T140000Z
DTEND:20150402T153000Z
DCREATED:20141127T100447Z
UID:ATEvent-35c180d7dc414d3fa49b02921135dd8f
SEQUENCE:0
LAST-MODIFIED:20141127T100447Z
SUMMARY:MTH-ALT
LOCATION:Lecture Room D
PRIORITY:3
TRANSP:0
END:VEVENT
BEGIN:VEVENT
DTSTART:20150403T120000Z
DTEND:20150403T153000Z
DCREATED:20150327T135937Z
UID:ATEvent-0696acbc3686404b8112b234093ef54c
SEQUENCE:0
LAST-MODIFIED:20150327T135955Z
SUMMARY:
LOCATION:Lecture Room D
PRIORITY:3
TRANSP:0
END:VEVENT
END:VCALENDAR
