BEGIN:VCALENDAR
PRODID:-//ICTPDiploma//ATRoom//EN
VERSION:1.0
BEGIN:VEVENT
DTSTART:20200309T080000Z
DTEND:20200309T093000Z
DCREATED:20200210T093322Z
UID:ATEvent-c30fb9d9e4ac49f7ab8731300eda8e93
SEQUENCE:0
LAST-MODIFIED:20200306T132552Z
SUMMARY:MTH-DG
LOCATION:Lecture Room D
PRIORITY:3
TRANSP:0
END:VEVENT
BEGIN:VEVENT
DTSTART:20200310T080000Z
DTEND:20200310T093000Z
DCREATED:20200306T134908Z
UID:ATEvent-51e76348bd6846218e08a220d3627a7b
SEQUENCE:0
LAST-MODIFIED:20200306T135008Z
SUMMARY:MTH-RT
LOCATION:Lecture Room D
PRIORITY:3
TRANSP:0
END:VEVENT
BEGIN:VEVENT
DTSTART:20200311T080000Z
DTEND:20200311T093000Z
DCREATED:20200306T132558Z
UID:ATEvent-15c64ae5528b42029f7bdc02dfad059e
SEQUENCE:0
LAST-MODIFIED:20200306T134858Z
SUMMARY:MTH-DG
LOCATION:Lecture Room D
PRIORITY:3
TRANSP:0
END:VEVENT
BEGIN:VEVENT
DTSTART:20200312T080000Z
DTEND:20200312T093000Z
DCREATED:20200308T080259Z
UID:ATEvent-189feca9419743eb9a6611d34a238686
SEQUENCE:0
LAST-MODIFIED:20200308T080324Z
SUMMARY:MTH-RT
LOCATION:Lecture Room D
PRIORITY:3
TRANSP:0
END:VEVENT
BEGIN:VEVENT
DTSTART:20200313T080000Z
DTEND:20200313T093000Z
DCREATED:20200121T132433Z
UID:ATEvent-9a2a9787843949ef9eb2295beefe3b0b
SEQUENCE:0
LAST-MODIFIED:20200319T083121Z
SUMMARY:MTH-FA tut. (4)
LOCATION:Lecture Room D
PRIORITY:3
TRANSP:0
END:VEVENT
BEGIN:VEVENT
DTSTART:20200309T100000Z
DTEND:20200309T113000Z
DCREATED:20191115T104207Z
UID:ATEvent-ed6cf3778f56492a87c2d7d30498fc07
SEQUENCE:0
LAST-MODIFIED:20191115T104207Z
SUMMARY:CMP-ES
LOCATION:Lecture Room D
PRIORITY:3
TRANSP:0
END:VEVENT
BEGIN:VEVENT
DTSTART:20200311T100000Z
DTEND:20200311T113000Z
DCREATED:20191115T104207Z
UID:ATEvent-039f72ea77ea403dbfda9df10ef3a00f
SEQUENCE:0
LAST-MODIFIED:20191115T104207Z
SUMMARY:CMP-ES
LOCATION:Lecture Room D
PRIORITY:3
TRANSP:0
END:VEVENT
BEGIN:VEVENT
DTSTART:20200312T100000Z
DTEND:20200312T113000Z
DCREATED:20200221T103307Z
UID:ATEvent-fdb75d126e2f4ab49cfd17f8c0191478
SEQUENCE:0
LAST-MODIFIED:20200221T103331Z
SUMMARY:MTH-AG tut.
LOCATION:Lecture Room D
PRIORITY:3
TRANSP:0
END:VEVENT
BEGIN:VEVENT
DTSTART:20200313T100000Z
DTEND:20200313T113000Z
DCREATED:20191115T104207Z
UID:ATEvent-60fe2d50b2be4f8c8b7fe0ab89420ff0
SEQUENCE:0
LAST-MODIFIED:20191115T104207Z
SUMMARY:CMP-ES
LOCATION:Lecture Room D
PRIORITY:3
TRANSP:0
END:VEVENT
BEGIN:VEVENT
DTSTART:20200309T130000Z
DTEND:20200309T143000Z
DCREATED:20200303T154813Z
UID:ATEvent-30cc5e37d16b42ea8235f4385f0828b5
SEQUENCE:0
LAST-MODIFIED:20200303T154842Z
SUMMARY:MTH-PDE
LOCATION:Lecture Room D
PRIORITY:3
TRANSP:0
END:VEVENT
BEGIN:VEVENT
DTSTART:20200312T130000Z
DTEND:20200312T143000Z
DCREATED:20191206T142805Z
UID:ATEvent-c80bbc4c7a384d93bc2d1d41f82cd9d2
SEQUENCE:0
LAST-MODIFIED:20200224T143131Z
SUMMARY:MTH-FA
LOCATION:Lecture Room D
PRIORITY:3
TRANSP:0
END:VEVENT
BEGIN:VEVENT
DTSTART:20200313T130000Z
DTEND:20200313T143000Z
DCREATED:20191115T103202Z
UID:ATEvent-34b9a2c022aa438393a73f7d1adfe718
SEQUENCE:0
LAST-MODIFIED:20191115T103202Z
SUMMARY:CMP-ST II
LOCATION:Lecture Room D
PRIORITY:3
TRANSP:0
END:VEVENT
BEGIN:VEVENT
DTSTART:20200309T150000Z
DTEND:20200309T163000Z
DCREATED:20191211T094347Z
UID:ATEvent-2907ee7390034edca2e81fec4ac37c3b
SEQUENCE:0
LAST-MODIFIED:20191211T094347Z
SUMMARY:MTH-AG
LOCATION:Lecture Room D
PRIORITY:3
TRANSP:0
END:VEVENT
BEGIN:VEVENT
DTSTART:20200311T150000Z
DTEND:20200311T163000Z
DCREATED:20191211T094347Z
UID:ATEvent-985fe35f392a40159567ae1b4c79aa7a
SEQUENCE:0
LAST-MODIFIED:20191211T094347Z
SUMMARY:MTH-AG
LOCATION:Lecture Room D
PRIORITY:3
TRANSP:0
END:VEVENT
BEGIN:VEVENT
DTSTART:20200312T150000Z
DTEND:20200312T163000Z
DCREATED:20200130T095527Z
UID:ATEvent-c8d9108961bc43b089b6e85dc4f524db
SEQUENCE:0
LAST-MODIFIED:20200130T095548Z
SUMMARY:MTH-PDE
LOCATION:Lecture Room D
PRIORITY:3
TRANSP:0
END:VEVENT
BEGIN:VEVENT
DTSTART:20200313T150000Z
DTEND:20200313T163000Z
DCREATED:20200130T095551Z
UID:ATEvent-fe2a45323f0a43ba81c8da5e14c7746d
SEQUENCE:0
LAST-MODIFIED:20200130T095617Z
SUMMARY:MTH-PDE
LOCATION:Lecture Room D
PRIORITY:3
TRANSP:0
END:VEVENT
END:VCALENDAR
