BEGIN:VCALENDAR
PRODID:-//ICTPDiploma//ATRoom//EN
VERSION:1.0
BEGIN:VEVENT
DTSTART:20230116T080000Z
DTEND:20230116T093000Z
DCREATED:20221122T102146Z
UID:ATEvent-7a7ecfe2578c4423bde9e5a3b2fa1b45
SEQUENCE:0
LAST-MODIFIED:20221122T102146Z
SUMMARY:MTH-PDE
LOCATION:Lecture Room D
PRIORITY:3
TRANSP:0
END:VEVENT
BEGIN:VEVENT
DTSTART:20230117T080000Z
DTEND:20230117T093000Z
DCREATED:20221122T102146Z
UID:ATEvent-34ece901d0ec4c5cbc2de6a2b3c00829
SEQUENCE:0
LAST-MODIFIED:20221122T102146Z
SUMMARY:MTH-PDE
LOCATION:Lecture Room D
PRIORITY:3
TRANSP:0
END:VEVENT
BEGIN:VEVENT
DTSTART:20230118T080000Z
DTEND:20230118T093000Z
DCREATED:20221122T102146Z
UID:ATEvent-341f6c8bb92948488715123039b30317
SEQUENCE:0
LAST-MODIFIED:20221122T102146Z
SUMMARY:MTH-PDE
LOCATION:Lecture Room D
PRIORITY:3
TRANSP:0
END:VEVENT
BEGIN:VEVENT
DTSTART:20230117T100000Z
DTEND:20230117T113000Z
DCREATED:20221122T101440Z
UID:ATEvent-007fd02127aa40e2aaa9d20ea6166703
SEQUENCE:0
LAST-MODIFIED:20221122T101440Z
SUMMARY:MTH-FA
LOCATION:Lecture Room D
PRIORITY:3
TRANSP:0
END:VEVENT
BEGIN:VEVENT
DTSTART:20230119T100000Z
DTEND:20230119T113000Z
DCREATED:20221122T101440Z
UID:ATEvent-793f0bcc53a54315982e0716fb14ca5d
SEQUENCE:0
LAST-MODIFIED:20230118T184535Z
SUMMARY:MTH-FA
LOCATION:Lecture Room D
PRIORITY:3
TRANSP:0
END:VEVENT
END:VCALENDAR
