BEGIN:VCALENDAR
PRODID:-//AT Content Types//AT Event//EN
VERSION:1.0
BEGIN:VEVENT
DTSTART:20100602T090000Z
DTEND:20100602T103000Z
DCREATED:20100303T133504Z
UID:ATEvent-5d33b4d11ac64bf289f718f9dfc49096
SEQUENCE:0
LAST-MODIFIED:20100303T133528Z
SUMMARY:official holiday
LOCATION:Lecture Room D
PRIORITY:3
TRANSP:0
END:VEVENT
END:VCALENDAR
