BEGIN:VCALENDAR
PRODID:-//AT Content Types//AT Event//EN
VERSION:2.0
METHOD:PUBLISH
BEGIN:VEVENT
DTSTAMP:20260420T132842Z
CREATED:20220920T142156Z
UID:ATEvent-0aa360d3d79141c49282f9cb8869dd26
LAST-MODIFIED:20220920T142223Z
SUMMARY:MTH-TOP tut.
DTSTART:20221117T150000Z
DTEND:20221117T163000Z
LOCATION:Lecture Room D
CONTACT:D. Veconi
URL:https://diploma-clear.ictp.it/courses/weekly-schedule/lecture-room-d/mth-top-tut-19
CLASS:PUBLIC
END:VEVENT
END:VCALENDAR
