BEGIN:VCALENDAR
PRODID:-//AT Content Types//AT Event//EN
VERSION:1.0
BEGIN:VEVENT
DTSTART:20111101T150000Z
DTEND:20111101T163000Z
DCREATED:20110908T101709Z
UID:ATEvent-70b184481e3960dea3eafd06d681034a
SEQUENCE:0
LAST-MODIFIED:20110908T101735Z
SUMMARY:MTH-TOP
LOCATION:Lecture Room D
PRIORITY:3
TRANSP:0
END:VEVENT
END:VCALENDAR
