BEGIN:VCALENDAR
PRODID:-//AT Content Types//AT Event//EN
VERSION:1.0
BEGIN:VEVENT
DTSTART:20111011T140000Z
DTEND:20111011T153000Z
DCREATED:20110829T102851Z
UID:ATEvent-a76e3742a25941cc36fc95646de1b8c4
SEQUENCE:0
LAST-MODIFIED:20110829T102931Z
SUMMARY:MTH-TOP
LOCATION:Lecture Room D
PRIORITY:3
TRANSP:0
END:VEVENT
END:VCALENDAR
