BEGIN:VCALENDAR
PRODID:-//AT Content Types//AT Event//EN
VERSION:1.0
BEGIN:VEVENT
DTSTART:20110927T140000Z
DTEND:20110927T153000Z
DCREATED:20110826T145503Z
UID:ATEvent-76e715042976e30a0a8e3770beedd370
SEQUENCE:0
LAST-MODIFIED:20110826T145522Z
SUMMARY:MTH-TOP
LOCATION:Lecture Room D
PRIORITY:3
TRANSP:0
END:VEVENT
END:VCALENDAR
