BEGIN:VCALENDAR
PRODID:-//AT Content Types//AT Event//EN
VERSION:1.0
BEGIN:VEVENT
DTSTART:20110906T140000Z
DTEND:20110906T153000Z
DCREATED:20110826T140922Z
UID:ATEvent-4eb949e2cc0b4d62a0b2894566defb5d
SEQUENCE:0
LAST-MODIFIED:20110826T141009Z
SUMMARY:MTH-TOP
LOCATION:Lecture Room D
PRIORITY:3
TRANSP:0
END:VEVENT
END:VCALENDAR
