BEGIN:VCALENDAR
PRODID:-//AT Content Types//AT Event//EN
VERSION:1.0
BEGIN:VEVENT
DTSTART:20101026T140000Z
DTEND:20101026T153000Z
DCREATED:20100917T125937Z
UID:ATEvent-96997a4a9eb6b2784b618f94f71c0931
SEQUENCE:0
LAST-MODIFIED:20100917T130003Z
SUMMARY:MTH-TOP
LOCATION:Lecture Room D
PRIORITY:3
TRANSP:0
END:VEVENT
END:VCALENDAR
