BEGIN:VCALENDAR
PRODID:-//AT Content Types//AT Event//EN
VERSION:1.0
BEGIN:VEVENT
DTSTART:20101018T140000Z
DTEND:20101018T153000Z
DCREATED:20100916T133238Z
UID:ATEvent-28c9d1ea2ab6dbeb6ab04e5d7ac4391e
SEQUENCE:0
LAST-MODIFIED:20100916T133302Z
SUMMARY:MTH-TOP
LOCATION:Lecture Room D
PRIORITY:3
TRANSP:0
END:VEVENT
END:VCALENDAR
