BEGIN:VCALENDAR
PRODID:-//AT Content Types//AT Event//EN
VERSION:2.0
METHOD:PUBLISH
BEGIN:VEVENT
DTSTAMP:20260423T221016Z
CREATED:20100830T100204Z
UID:ATEvent-44a848f4bb98a7004834d76af9dee417
LAST-MODIFIED:20100830T100233Z
SUMMARY:MTH-TOP
DTSTART:20100923T140000Z
DTEND:20100923T153000Z
LOCATION:Lecture Room D
CONTACT:B. Zimmermann
URL:https://diploma-clear.ictp.it/courses/weekly-schedule/lecture-room-d/mth-top-26
CLASS:PUBLIC
END:VEVENT
END:VCALENDAR
