BEGIN:VCALENDAR
PRODID:-//AT Content Types//AT Event//EN
VERSION:2.0
METHOD:PUBLISH
BEGIN:VEVENT
DTSTAMP:20260423T035059Z
CREATED:20190219T152105Z
UID:ATEvent-5f7e5386f83e41cfa2db11134ddede6f
LAST-MODIFIED:20190219T152123Z
SUMMARY:MTH-RT tut.
DTSTART:20190329T080000Z
DTEND:20190329T093000Z
LOCATION:Lecture Room D
CONTACT:V. Cantoral
URL:https://diploma-clear.ictp.it/courses/weekly-schedule/lecture-room-d/mth-rt-tut-8
CLASS:PUBLIC
END:VEVENT
END:VCALENDAR
