BEGIN:VCALENDAR
PRODID:-//AT Content Types//AT Event//EN
VERSION:2.0
METHOD:PUBLISH
BEGIN:VEVENT
DTSTAMP:20260420T030225Z
CREATED:20190219T151937Z
UID:ATEvent-401ea54769d34047a9d5101e9f9466c2
LAST-MODIFIED:20190306T134227Z
SUMMARY:MTH-RT
DTSTART:20190322T080000Z
DTEND:20190322T093000Z
LOCATION:Lecture Room D
CONTACT:F. Villegas
URL:https://diploma-clear.ictp.it/courses/weekly-schedule/lecture-room-d/mth-rt-tut-6
CLASS:PUBLIC
END:VEVENT
END:VCALENDAR
