BEGIN:VCALENDAR
PRODID:-//AT Content Types//AT Event//EN
VERSION:1.0
BEGIN:VEVENT
DTSTART:20191113T130000Z
DTEND:20191113T143000Z
DCREATED:20191028T135309Z
UID:ATEvent-efcb1983be1549fc8b10b4402dfd7d47
SEQUENCE:0
LAST-MODIFIED:20191028T135323Z
SUMMARY:MTH-RA tut.
LOCATION:Lecture Room D
PRIORITY:3
TRANSP:0
END:VEVENT
END:VCALENDAR
