BEGIN:VCALENDAR
PRODID:-//AT Content Types//AT Event//EN
VERSION:2.0
METHOD:PUBLISH
BEGIN:VEVENT
DTSTAMP:20260421T054520Z
CREATED:20171019T135335Z
UID:ATEvent-4ab7f9528bb74e3ca2d2a8bbaeeee4c4
LAST-MODIFIED:20171107T151550Z
SUMMARY:MTH-RA tut.
DTSTART:20171116T100000Z
DTEND:20171116T113000Z
LOCATION:Lecture Room D
CONTACT:J. PADILLA
URL:https://diploma-clear.ictp.it/courses/weekly-schedule/lecture-room-d/mth-ra-tut-12
CLASS:PUBLIC
END:VEVENT
END:VCALENDAR
