BEGIN:VCALENDAR
PRODID:-//AT Content Types//AT Event//EN
VERSION:1.0
BEGIN:VEVENT
DTSTART:20171102T100000Z
DTEND:20171102T113000Z
DCREATED:20171019T134855Z
UID:ATEvent-c5dc8e464b694ef3aa2cbacf3ee1f79e
SEQUENCE:0
LAST-MODIFIED:20171107T153246Z
SUMMARY:MTH-RA tut.
LOCATION:Lecture Room D
PRIORITY:3
TRANSP:0
END:VEVENT
END:VCALENDAR
