BEGIN:VCALENDAR
PRODID:-//AT Content Types//AT Event//EN
VERSION:2.0
METHOD:PUBLISH
BEGIN:VEVENT
DTSTAMP:20260425T225652Z
CREATED:20110908T132443Z
UID:ATEvent-c4244122c9549e10c3a4cfe49ce3969a
LAST-MODIFIED:20110908T132514Z
SUMMARY:MTH-RA
DTSTART:20111115T100000Z
DTEND:20111115T113000Z
LOCATION:Lecture Room D
CONTACT:E. Sincich
URL:https://diploma-clear.ictp.it/courses/weekly-schedule/lecture-room-d/mth-ra-69
CLASS:PUBLIC
END:VEVENT
END:VCALENDAR
