BEGIN:VCALENDAR
PRODID:-//AT Content Types//AT Event//EN
VERSION:1.0
BEGIN:VEVENT
DTSTART:20111103T100000Z
DTEND:20111103T113000Z
DCREATED:20110908T101859Z
UID:ATEvent-f60f39b4d23c0af7b5ee79ff62956d20
SEQUENCE:0
LAST-MODIFIED:20110908T101919Z
SUMMARY:MTH-RA
LOCATION:Lecture Room D
PRIORITY:3
TRANSP:0
END:VEVENT
END:VCALENDAR
