BEGIN:VCALENDAR
PRODID:-//AT Content Types//AT Event//EN
VERSION:1.0
BEGIN:VEVENT
DTSTART:20111101T100000Z
DTEND:20111101T113000Z
DCREATED:20110908T101634Z
UID:ATEvent-5ee0c8b956380a30f8971f1855c4435d
SEQUENCE:0
LAST-MODIFIED:20110908T101700Z
SUMMARY:MTH-RA
LOCATION:Lecture Room D
PRIORITY:3
TRANSP:0
END:VEVENT
END:VCALENDAR
