BEGIN:VCALENDAR
PRODID:-//AT Content Types//AT Event//EN
VERSION:2.0
METHOD:PUBLISH
BEGIN:VEVENT
DTSTAMP:20260423T221014Z
CREATED:20110829T102712Z
UID:ATEvent-863add7d0fe54e3a46ca66203829138a
LAST-MODIFIED:20110829T103217Z
SUMMARY:MTH-RA
DTSTART:20111011T090000Z
DTEND:20111011T103000Z
LOCATION:Lecture Room D
CONTACT:E. Sincich
URL:https://diploma-clear.ictp.it/courses/weekly-schedule/lecture-room-d/mth-ra-59
CLASS:PUBLIC
END:VEVENT
END:VCALENDAR
