BEGIN:VCALENDAR
PRODID:-//AT Content Types//AT Event//EN
VERSION:2.0
METHOD:PUBLISH
BEGIN:VEVENT
DTSTAMP:20260422T072041Z
CREATED:20110826T143824Z
UID:ATEvent-513ed2fab17a276e10525e95741951dc
LAST-MODIFIED:20110826T143839Z
SUMMARY:MTH-RA
DTSTART:20110913T090000Z
DTEND:20110913T103000Z
LOCATION:Lecture Room D
CONTACT:E. Sincich
URL:https://diploma-clear.ictp.it/courses/weekly-schedule/lecture-room-d/mth-ra-51
CLASS:PUBLIC
END:VEVENT
END:VCALENDAR
