BEGIN:VCALENDAR
PRODID:-//AT Content Types//AT Event//EN
VERSION:2.0
METHOD:PUBLISH
BEGIN:VEVENT
DTSTAMP:20260420T055856Z
CREATED:20100921T123145Z
UID:ATEvent-d8e2bc66c9277bb1f0e8f58e4a6c747b
LAST-MODIFIED:20100921T123215Z
SUMMARY:MTH-RA
DTSTART:20101105T100000Z
DTEND:20101105T113000Z
LOCATION:Lecture Room D
CONTACT:E. Sincich
URL:https://diploma-clear.ictp.it/courses/weekly-schedule/lecture-room-d/mth-ra-39
CLASS:PUBLIC
END:VEVENT
END:VCALENDAR
