BEGIN:VCALENDAR
PRODID:-//AT Content Types//AT Event//EN
VERSION:2.0
METHOD:PUBLISH
BEGIN:VEVENT
DTSTAMP:20260423T001703Z
CREATED:20120220T132723Z
UID:ATEvent-ea98050c42ff74825d9abe322004b105
LAST-MODIFIED:20120220T132755Z
SUMMARY:MTH-PDE
DTSTART:20120228T080000Z
DTEND:20120228T093000Z
LOCATION:Lecture Room D
CONTACT:G. Bellettini
URL:https://diploma-clear.ictp.it/courses/weekly-schedule/lecture-room-d/mth-pde-69
CLASS:PUBLIC
END:VEVENT
END:VCALENDAR
