BEGIN:VCALENDAR
PRODID:-//AT Content Types//AT Event//EN
VERSION:1.0
BEGIN:VEVENT
DTSTART:20180216T080000Z
DTEND:20180216T093000Z
DCREATED:20180130T104511Z
UID:ATEvent-e262dff0766a40ad95c1fe5391ff9929
SEQUENCE:0
LAST-MODIFIED:20180130T104533Z
SUMMARY:MTH-ODS
LOCATION:Lecture Room D
PRIORITY:3
TRANSP:0
END:VEVENT
END:VCALENDAR
