BEGIN:VCALENDAR
PRODID:-//AT Content Types//AT Event//EN
VERSION:1.0
BEGIN:VEVENT
DTSTART:20190307T100000Z
DTEND:20190307T113000Z
DCREATED:20190227T091151Z
UID:ATEvent-41fb1a3dce5d416aab595736031591f6
SEQUENCE:0
LAST-MODIFIED:20190304T100859Z
SUMMARY:MTH-ODS midterm test
LOCATION:Lecture Room D
PRIORITY:3
TRANSP:0
END:VEVENT
END:VCALENDAR
