BEGIN:VCALENDAR
PRODID:-//AT Content Types//AT Event//EN
VERSION:2.0
METHOD:PUBLISH
BEGIN:VEVENT
DTSTAMP:20260423T020537Z
CREATED:20131219T164932Z
UID:ATEvent-4c3266d2612c47338a0b35c0c9f04ffb
LAST-MODIFIED:20131219T165548Z
SUMMARY:MTH-ODE II
DTSTART:20140205T080000Z
DTEND:20140205T093000Z
LOCATION:Lecture Room D
CONTACT:K. War
URL:https://diploma-clear.ictp.it/courses/weekly-schedule/lecture-room-d/mth-ode-ii-20
CLASS:PUBLIC
END:VEVENT
END:VCALENDAR
