BEGIN:VCALENDAR
PRODID:-//AT Content Types//AT Event//EN
VERSION:2.0
METHOD:PUBLISH
BEGIN:VEVENT
DTSTAMP:20260425T225754Z
CREATED:20131219T164931Z
UID:ATEvent-2ba237e5cd2d48b4a0e1a9b0a274f363
LAST-MODIFIED:20131219T165518Z
SUMMARY:MTH-ODE II
DTSTART:20140203T080000Z
DTEND:20140203T093000Z
LOCATION:Lecture Room D
CONTACT:K. War
URL:https://diploma-clear.ictp.it/courses/weekly-schedule/lecture-room-d/mth-ode-ii-19
CLASS:PUBLIC
END:VEVENT
END:VCALENDAR
