BEGIN:VCALENDAR
PRODID:-//AT Content Types//AT Event//EN
VERSION:2.0
METHOD:PUBLISH
BEGIN:VEVENT
DTSTAMP:20260423T183716Z
CREATED:20110908T135134Z
UID:ATEvent-06210b0fbde237050352b1232b76e4ca
LAST-MODIFIED:20110908T135156Z
SUMMARY:MTH-ODE
DTSTART:20111130T150000Z
DTEND:20111130T163000Z
LOCATION:Lecture Room D
CONTACT:S. Luzzatto
URL:https://diploma-clear.ictp.it/courses/weekly-schedule/lecture-room-d/mth-ode-17
CLASS:PUBLIC
END:VEVENT
END:VCALENDAR
