BEGIN:VCALENDAR
PRODID:-//AT Content Types//AT Event//EN
VERSION:2.0
METHOD:PUBLISH
BEGIN:VEVENT
DTSTAMP:20260421T103053Z
CREATED:20111026T131723Z
UID:ATEvent-79e52b7f7a4805067d8f2d979ae63287
LAST-MODIFIED:20111026T131750Z
SUMMARY:MTH-ODE
DTSTART:20111125T150000Z
DTEND:20111125T163000Z
LOCATION:Lecture Room D
CONTACT:S. Luzzatto
URL:https://diploma-clear.ictp.it/courses/weekly-schedule/lecture-room-d/mth-ode-14
CLASS:PUBLIC
END:VEVENT
END:VCALENDAR
