BEGIN:VCALENDAR
PRODID:-//AT Content Types//AT Event//EN
VERSION:2.0
METHOD:PUBLISH
BEGIN:VEVENT
DTSTAMP:20260420T222559Z
CREATED:20210831T145002Z
UID:ATEvent-70e3a8b916d041949eb72c2f704cbadd
LAST-MODIFIED:20211019T085443Z
SUMMARY:MTH-NTS
DTSTART:20211210T080000Z
DTEND:20211210T093000Z
LOCATION:Lecture Room D
CONTACT:A. Sofer
URL:https://diploma-clear.ictp.it/courses/weekly-schedule/lecture-room-d/mth-nts-9
CLASS:PUBLIC
END:VEVENT
END:VCALENDAR
